BEGIN:VCALENDAR
VERSION:2.0
PRODID:-// - ECPv6.15.20//NONSGML v1.0//EN
CALSCALE:GREGORIAN
METHOD:PUBLISH
X-ORIGINAL-URL:https://www.belfint.com
X-WR-CALDESC:Events for 
REFRESH-INTERVAL;VALUE=DURATION:PT1H
X-Robots-Tag:noindex
X-PUBLISHED-TTL:PT1H
BEGIN:VTIMEZONE
TZID:America/New_York
BEGIN:DAYLIGHT
TZOFFSETFROM:-0500
TZOFFSETTO:-0400
TZNAME:EDT
DTSTART:20200308T070000
END:DAYLIGHT
BEGIN:STANDARD
TZOFFSETFROM:-0400
TZOFFSETTO:-0500
TZNAME:EST
DTSTART:20201101T060000
END:STANDARD
BEGIN:DAYLIGHT
TZOFFSETFROM:-0500
TZOFFSETTO:-0400
TZNAME:EDT
DTSTART:20210314T070000
END:DAYLIGHT
BEGIN:STANDARD
TZOFFSETFROM:-0400
TZOFFSETTO:-0500
TZNAME:EST
DTSTART:20211107T060000
END:STANDARD
BEGIN:DAYLIGHT
TZOFFSETFROM:-0500
TZOFFSETTO:-0400
TZNAME:EDT
DTSTART:20220313T070000
END:DAYLIGHT
BEGIN:STANDARD
TZOFFSETFROM:-0400
TZOFFSETTO:-0500
TZNAME:EST
DTSTART:20221106T060000
END:STANDARD
END:VTIMEZONE
BEGIN:VEVENT
DTSTART;TZID=America/New_York:20210114T120000
DTEND;TZID=America/New_York:20210114T140000
DTSTAMP:20260423T220104
CREATED:20201103T181157Z
LAST-MODIFIED:20210107T152326Z
UID:10000030-1610625600-1610632800@www.belfint.com
SUMMARY:ASPPA Webinar: Understanding Audits
DESCRIPTION:Christopher J. Ciminera\, CPA will be presenting the ASPPA January Webinar. \nTopic: Understanding Audits \nDate: January 14\, 2021 \nTime: 12:00pm – 2:00pm \nLocation: Zoom – Click here to register. \n  \nFor more information\, visit ASPPA.
URL:https://www.belfint.com/event/asppa-understanding-audits/
LOCATION:Delaware
CATEGORIES:BLS Speaking Engagement
ATTACH;FMTTYPE=image/png:https://www.belfint.com/wp-content/uploads/2020/11/ASPPA.png
END:VEVENT
END:VCALENDAR