BEGIN:VCALENDAR
VERSION:2.0
PRODID:-// - ECPv6.15.20//NONSGML v1.0//EN
CALSCALE:GREGORIAN
METHOD:PUBLISH
X-ORIGINAL-URL:https://www.belfint.com
X-WR-CALDESC:Events for 
REFRESH-INTERVAL;VALUE=DURATION:PT1H
X-Robots-Tag:noindex
X-PUBLISHED-TTL:PT1H
BEGIN:VTIMEZONE
TZID:America/New_York
BEGIN:DAYLIGHT
TZOFFSETFROM:-0500
TZOFFSETTO:-0400
TZNAME:EDT
DTSTART:20200308T070000
END:DAYLIGHT
BEGIN:STANDARD
TZOFFSETFROM:-0400
TZOFFSETTO:-0500
TZNAME:EST
DTSTART:20201101T060000
END:STANDARD
BEGIN:DAYLIGHT
TZOFFSETFROM:-0500
TZOFFSETTO:-0400
TZNAME:EDT
DTSTART:20210314T070000
END:DAYLIGHT
BEGIN:STANDARD
TZOFFSETFROM:-0400
TZOFFSETTO:-0500
TZNAME:EST
DTSTART:20211107T060000
END:STANDARD
BEGIN:DAYLIGHT
TZOFFSETFROM:-0500
TZOFFSETTO:-0400
TZNAME:EDT
DTSTART:20220313T070000
END:DAYLIGHT
BEGIN:STANDARD
TZOFFSETFROM:-0400
TZOFFSETTO:-0500
TZNAME:EST
DTSTART:20221106T060000
END:STANDARD
END:VTIMEZONE
BEGIN:VEVENT
DTSTART;TZID=America/New_York:20211103T110000
DTEND;TZID=America/New_York:20211103T133000
DTSTAMP:20260423T203813
CREATED:20210818T180814Z
LAST-MODIFIED:20210818T180948Z
UID:10000144-1635937200-1635946200@www.belfint.com
SUMMARY:DSCC Superstars in Business Luncheon
DESCRIPTION:BLS is a Bronze Sponsor for the Superstars in Business Luncheon! \nBLS is looking forward to the Delaware State Chamber of Commerce 23rd Annual Superstars in Business Luncheon on November 3! The Marvin S. Gilman Superstars in Business award honors businesses and nonprofits for their outstanding achievements and model approaches to business and management. Established in 1998\, the awards are given annually to extraordinary businesses in honor of Marvin S. Gilman\, who was a distinguished small business leader in Delaware. \nKeynote Speakers: \nDave Heller and Clark Minker \nDiscover how these two innovators creatively navigated through economic barriers and other hurdles to make the Blue Rocks franchise an industry leader while simultaneously changing the Wilmington community forever. \nAgenda:\n11:15 am   Registration and networking\n12:00 pm   Lunch\n12:30 pm   Keynote speaker\n1:00 pm     Awards presentation\n1:45 pm     Adjourn \nFor more information please visit DSCC Superstars in Business. \n 
URL:https://www.belfint.com/event/dscc-superstars-in-business-2021/
LOCATION:Hotel du Pont – Gold Ballroom\, 11th & Market Streets\, Wilmington\, DE\, 19801\, United States
CATEGORIES:BLS Exhibiting,BLS Sponsoring
ATTACH;FMTTYPE=image/jpeg:https://www.belfint.com/wp-content/uploads/2018/07/DSCC-Superstars.jpg
GEO:39.746594;-75.5478072
X-APPLE-STRUCTURED-LOCATION;VALUE=URI;X-ADDRESS=Hotel du Pont – Gold Ballroom 11th & Market Streets Wilmington DE 19801 United States;X-APPLE-RADIUS=500;X-TITLE=11th & Market Streets:geo:-75.5478072,39.746594
END:VEVENT
END:VCALENDAR