BEGIN:VCALENDAR
VERSION:2.0
PRODID:-// - ECPv6.15.20//NONSGML v1.0//EN
CALSCALE:GREGORIAN
METHOD:PUBLISH
X-ORIGINAL-URL:https://www.belfint.com
X-WR-CALDESC:Events for 
REFRESH-INTERVAL;VALUE=DURATION:PT1H
X-Robots-Tag:noindex
X-PUBLISHED-TTL:PT1H
BEGIN:VTIMEZONE
TZID:America/New_York
BEGIN:DAYLIGHT
TZOFFSETFROM:-0500
TZOFFSETTO:-0400
TZNAME:EDT
DTSTART:20250309T070000
END:DAYLIGHT
BEGIN:STANDARD
TZOFFSETFROM:-0400
TZOFFSETTO:-0500
TZNAME:EST
DTSTART:20251102T060000
END:STANDARD
BEGIN:DAYLIGHT
TZOFFSETFROM:-0500
TZOFFSETTO:-0400
TZNAME:EDT
DTSTART:20260308T070000
END:DAYLIGHT
BEGIN:STANDARD
TZOFFSETFROM:-0400
TZOFFSETTO:-0500
TZNAME:EST
DTSTART:20261101T060000
END:STANDARD
BEGIN:DAYLIGHT
TZOFFSETFROM:-0500
TZOFFSETTO:-0400
TZNAME:EDT
DTSTART:20270314T070000
END:DAYLIGHT
BEGIN:STANDARD
TZOFFSETFROM:-0400
TZOFFSETTO:-0500
TZNAME:EST
DTSTART:20271107T060000
END:STANDARD
END:VTIMEZONE
BEGIN:VEVENT
DTSTART;TZID=America/New_York:20260516T190000
DTEND;TZID=America/New_York:20260516T220000
DTSTAMP:20260422T132424
CREATED:20260410T142055Z
LAST-MODIFIED:20260413T133648Z
UID:10000515-1778958000-1778968800@www.belfint.com
SUMMARY:Congregation Beth Emeth 120th Anniversary Gala
DESCRIPTION:BLS is a Facet Friends Sponsor for Congregation Beth Emeth’s 120th Anniversary Gala\n  \nCelebrating 120 Years of Community\, Faith\, and Legacy \nWe warmly invite you to join us for our 120th Anniversary Gala! This is a milestone celebration honoring our past\, present\, and future. \nLearn more here: Congregation Beth Emeth 120th Anniversary Gala
URL:https://www.belfint.com/event/beth-emeth-anniversary-gala/
LOCATION:Congregation Beth Emeth\, 300 West Lea Blvd\, Wilmington\, Delaware\, 19802
CATEGORIES:BLS Sponsoring
ATTACH;FMTTYPE=image/jpeg:https://www.belfint.com/wp-content/uploads/2026/04/Congregation-Beth-Emeth.jpg
END:VEVENT
END:VCALENDAR