BEGIN:VCALENDAR
VERSION:2.0
PRODID:-// - ECPv6.15.20//NONSGML v1.0//EN
CALSCALE:GREGORIAN
METHOD:PUBLISH
X-ORIGINAL-URL:https://www.belfint.com
X-WR-CALDESC:Events for 
REFRESH-INTERVAL;VALUE=DURATION:PT1H
X-Robots-Tag:noindex
X-PUBLISHED-TTL:PT1H
BEGIN:VTIMEZONE
TZID:America/New_York
BEGIN:DAYLIGHT
TZOFFSETFROM:-0500
TZOFFSETTO:-0400
TZNAME:EDT
DTSTART:20240310T070000
END:DAYLIGHT
BEGIN:STANDARD
TZOFFSETFROM:-0400
TZOFFSETTO:-0500
TZNAME:EST
DTSTART:20241103T060000
END:STANDARD
BEGIN:DAYLIGHT
TZOFFSETFROM:-0500
TZOFFSETTO:-0400
TZNAME:EDT
DTSTART:20250309T070000
END:DAYLIGHT
BEGIN:STANDARD
TZOFFSETFROM:-0400
TZOFFSETTO:-0500
TZNAME:EST
DTSTART:20251102T060000
END:STANDARD
BEGIN:DAYLIGHT
TZOFFSETFROM:-0500
TZOFFSETTO:-0400
TZNAME:EDT
DTSTART:20260308T070000
END:DAYLIGHT
BEGIN:STANDARD
TZOFFSETFROM:-0400
TZOFFSETTO:-0500
TZNAME:EST
DTSTART:20261101T060000
END:STANDARD
END:VTIMEZONE
BEGIN:VEVENT
DTSTART;TZID=America/New_York:20251008T100000
DTEND;TZID=America/New_York:20251008T130000
DTSTAMP:20260423T075321
CREATED:20250806T140336Z
LAST-MODIFIED:20250806T140336Z
UID:10000457-1759917600-1759928400@www.belfint.com
SUMMARY:Goldey-Beacom College 2025 Fall Career Fair & Networking Event
DESCRIPTION:Are you an accounting major at GBC looking to start your career with a Top Workplace? Are you looking for a 2026 Summer Internship? Join us for Goldey-Beacom College’s 2025 Fall Career Fair and connect with us to learn more about BLS\, our Summer Internship Program\, Externship program\, and Staff Accountant positions. \nAdditional Details can be found at GBC’s Career Center.
URL:https://www.belfint.com/event/goldey-beacom-college-2025-fall-career-event/
LOCATION:4701 limestone road Wilmington DE 19808\, 4701 Limestone Road\, Wilmington\, DE\, 19808\, United States
CATEGORIES:BLS Exhibiting,Recruiting Event
ATTACH;FMTTYPE=image/jpeg:https://www.belfint.com/wp-content/uploads/2018/08/GBC.jpg
GEO:39.7414712;-75.6896698
X-APPLE-STRUCTURED-LOCATION;VALUE=URI;X-ADDRESS=4701 limestone road Wilmington DE 19808 4701 Limestone Road Wilmington DE 19808 United States;X-APPLE-RADIUS=500;X-TITLE=4701 Limestone Road:geo:-75.6896698,39.7414712
END:VEVENT
END:VCALENDAR