BEGIN:VCALENDAR
VERSION:2.0
PRODID:-// - ECPv6.15.20//NONSGML v1.0//EN
CALSCALE:GREGORIAN
METHOD:PUBLISH
X-ORIGINAL-URL:https://www.belfint.com
X-WR-CALDESC:Events for 
REFRESH-INTERVAL;VALUE=DURATION:PT1H
X-Robots-Tag:noindex
X-PUBLISHED-TTL:PT1H
BEGIN:VTIMEZONE
TZID:America/New_York
BEGIN:DAYLIGHT
TZOFFSETFROM:-0500
TZOFFSETTO:-0400
TZNAME:EDT
DTSTART:20210314T070000
END:DAYLIGHT
BEGIN:STANDARD
TZOFFSETFROM:-0400
TZOFFSETTO:-0500
TZNAME:EST
DTSTART:20211107T060000
END:STANDARD
BEGIN:DAYLIGHT
TZOFFSETFROM:-0500
TZOFFSETTO:-0400
TZNAME:EDT
DTSTART:20220313T070000
END:DAYLIGHT
BEGIN:STANDARD
TZOFFSETFROM:-0400
TZOFFSETTO:-0500
TZNAME:EST
DTSTART:20221106T060000
END:STANDARD
BEGIN:DAYLIGHT
TZOFFSETFROM:-0500
TZOFFSETTO:-0400
TZNAME:EDT
DTSTART:20230312T070000
END:DAYLIGHT
BEGIN:STANDARD
TZOFFSETFROM:-0400
TZOFFSETTO:-0500
TZNAME:EST
DTSTART:20231105T060000
END:STANDARD
END:VTIMEZONE
BEGIN:VEVENT
DTSTART;TZID=America/New_York:20220512T173000
DTEND;TZID=America/New_York:20220512T193000
DTSTAMP:20260422T065410
CREATED:20220317T155820Z
LAST-MODIFIED:20220317T155833Z
UID:10000210-1652376600-1652383800@www.belfint.com
SUMMARY:2022 Delaware Salute to Service - Multiply Good at The Jefferson Awards
DESCRIPTION:BLS CPAs is proud to support Multiply Good at The Jefferson Awards by being a Community Sponsor for the 2022 Delaware Salute to Service Event!  \nEvent Details \nMultiply Good at The Jefferson Awards – Delaware Salute to Service \nThursday\, May 12\, 2022 \nDravo Auditorium at The Chase Center on the Riverfront – 5:30pm \n#celebrategood #Delaware4Good!
URL:https://www.belfint.com/event/2022-delaware-salute-to-service/
LOCATION:Chase Center on the Riverfront\, 815 Justison Street \, Wilmington\, DE\, 19801\, United States
CATEGORIES:BLS Sponsoring
ATTACH;FMTTYPE=image/jpeg:https://www.belfint.com/wp-content/uploads/2019/02/Jefferson-Awards-2019.jpg
GEO:39.731089;-75.5630543
X-APPLE-STRUCTURED-LOCATION;VALUE=URI;X-ADDRESS=Chase Center on the Riverfront 815 Justison Street  Wilmington DE 19801 United States;X-APPLE-RADIUS=500;X-TITLE=815 Justison Street:geo:-75.5630543,39.731089
END:VEVENT
BEGIN:VEVENT
DTSTART;VALUE=DATE:20220516
DTEND;VALUE=DATE:20220517
DTSTAMP:20260422T065410
CREATED:20220114T172801Z
LAST-MODIFIED:20220114T172801Z
UID:10000194-1652659200-1652745599@www.belfint.com
SUMMARY:IMPORTANT DEADLINE: Nonprofits
DESCRIPTION:NONPROFITS: \nForm 990 filing deadline for calendar year nonprofit organizations.
URL:https://www.belfint.com/event/deadline-nonprofits-5-16-22/
LOCATION:Delaware
CATEGORIES:Important Update
ATTACH;FMTTYPE=image/jpeg:https://www.belfint.com/wp-content/uploads/2018/01/Events-Deadline-720x540-1.jpg
ORGANIZER;CN="Belfint Lyons & Shuman":MAILTO:jjones@belfint.com
END:VEVENT
BEGIN:VEVENT
DTSTART;VALUE=DATE:20220516
DTEND;VALUE=DATE:20220517
DTSTAMP:20260422T065410
CREATED:20211222T134541Z
LAST-MODIFIED:20211222T135240Z
UID:10000167-1652659200-1652745599@www.belfint.com
SUMMARY:Boys & Girls Clubs of Delaware: 2022 Stanley's Classic
DESCRIPTION:Belfint\, Lyons & Shuman\, CPAs is PROUD to be a Champion for Kids Sponsor for the 2022 Boys & Girls Club of Delaware Stanley’s Classic Golf Tournament.  \nMay 16\, 2022 \nWilmington Country Club \nSince 1988\, the Stanley’s Tavern Golf Classic has raised more than 1.861 million dollars for the Boys & Girls Clubs of Delaware. Join us and Honorary Chair Howdy Giles at Wilmington Country Club on Monday\, May 16th\, for an afternoon of golf\, followed by the Classic Cocktail Celebration. \nMore Details Here: 2022 Stanley’s Tavern Golf Classic
URL:https://www.belfint.com/event/boys-girls-club-de-golf-classic-2022/
LOCATION:Wilmington Country Club\, 4825 Kennett Pike\, Wilmington\, DE\, 19807\, United States
CATEGORIES:BLS Sponsoring
ATTACH;FMTTYPE=image/jpeg:https://www.belfint.com/wp-content/uploads/2021/12/BoysGirlsClubsGolf-1.jpg
GEO:39.7950134;-75.6068904
X-APPLE-STRUCTURED-LOCATION;VALUE=URI;X-ADDRESS=Wilmington Country Club 4825 Kennett Pike Wilmington DE 19807 United States;X-APPLE-RADIUS=500;X-TITLE=4825 Kennett Pike:geo:-75.6068904,39.7950134
END:VEVENT
BEGIN:VEVENT
DTSTART;TZID=America/New_York:20220517T130000
DTEND;TZID=America/New_York:20220517T150000
DTSTAMP:20260422T065410
CREATED:20220321T125607Z
LAST-MODIFIED:20220321T125607Z
UID:10000213-1652792400-1652799600@www.belfint.com
SUMMARY:Mastering Form 5500 Schedule H: Avoiding Audit Triggers
DESCRIPTION:Christopher J. Ciminera\, CPA\, QKA\, will be a panelist at Strafford’s Webinar – Mastering Form 5500 Schedule H: Avoiding Audit Triggers \nTopic: Mastering Form 5500 Schedule H: Avoiding Audit Triggers \nDate: Tuesday\, May 17\, 2022 \nTime: 1:00pm – 2:50pm ET \nPanelists: \n\nChristopher J. Ciminera\, CPA\, QKA – Belfint\, Lyons & Shuman\, CPAs\nLinda T. Fisher – 5500 Consulting\n\n\nSchedule H of Form 5500 provides important plan financial and compliance detail to the IRS and DOL. Schedule H is generally required to be completed and attached to Form 5500 for plans that cover more than 100 participants. A completed Form 5500 Schedule H will appropriately report the financial position of the plan and communicate answers to a series of compliance questions. \nEffective for plans with years ending after December 15\, 2021\, Statement on Auditing Standards 136 (SAS 136)\, Forming an Opinion and Reporting on Financial Statements of Employee Benefit Plans Subject to ERISA\, makes changes to the independent qualified public accountant’s audit opinion\, which changes how a preparer will fill out Part III of the Schedule H. Retirement plan professionals need to be aware of the recent changes made to the Form 5500 to properly complete it. \nListen as our experienced panel provides a thorough and practical guide to mastering Form 5500\, with a specific emphasis on Schedule H\, Financial Reporting for Employee Benefit Plans\, as well as the impact of recent accounting changes to Form 5500 filing requirements. \n\n\n  \nFor more information\, visit Strafford’s Webinar Listing.
URL:https://www.belfint.com/event/strafford-form-5500-schedule-h-webinar/
LOCATION:Delaware
CATEGORIES:BLS Speaking Engagement
ATTACH;FMTTYPE=image/png:https://www.belfint.com/wp-content/uploads/2020/11/strafford.png
END:VEVENT
BEGIN:VEVENT
DTSTART;VALUE=DATE:20220523
DTEND;VALUE=DATE:20220524
DTSTAMP:20260422T065410
CREATED:20220118T210348Z
LAST-MODIFIED:20220118T210400Z
UID:10000073-1653264000-1653350399@www.belfint.com
SUMMARY:Siegel JCC Delaware Annual Sports Classic (BLS is a Birdie Sponsor)
DESCRIPTION:BLS CPAs is proud to be a Birdie Sponsor again this year for the 30th Annual Siegel JCC Delaware Sports Classic. \nSIEGEL JCC ANNUAL SPORTS CLASSIC \nDate: \nMay 23\, 2022\n\nLocation:\nWilmington Country Club\n\n4825 Kennett Pike\nWilmington\, DE 19807\n\n\n\n\nAdditional details can be found on the Siegel JCC Delaware webpage.
URL:https://www.belfint.com/event/2021-siegel-jcc-sports-classic-2/
LOCATION:Wilmington Country Club\, 4825 Kennett Pike\, Wilmington\, DE\, 19807\, United States
CATEGORIES:BLS Sponsoring
ATTACH;FMTTYPE=image/jpeg:https://www.belfint.com/wp-content/uploads/2022/01/2022-Sports-Classic.jpg
GEO:39.7950134;-75.6068904
X-APPLE-STRUCTURED-LOCATION;VALUE=URI;X-ADDRESS=Wilmington Country Club 4825 Kennett Pike Wilmington DE 19807 United States;X-APPLE-RADIUS=500;X-TITLE=4825 Kennett Pike:geo:-75.6068904,39.7950134
END:VEVENT
BEGIN:VEVENT
DTSTART;VALUE=DATE:20220604
DTEND;VALUE=DATE:20220605
DTSTAMP:20260422T065410
CREATED:20220406T142348Z
LAST-MODIFIED:20220406T142348Z
UID:10000216-1654300800-1654387199@www.belfint.com
SUMMARY:New Castle County 4-H & FFA 20th Annual Summer Livestock Classic
DESCRIPTION:BLS CPAs is a Silver Sponsor for the New Castle County 4-H & FFA 20th Annual Summer Livestock Classic! \nSaturday\, June 4\, 2022 \nDelaware State Fair Grounds \nHarrington\, DE \nEntry Fee: $2/animal \nWeigh-Ins: 7:00- 8:00 a.m. Show begins at 9:00 a.m. \n$16/animal after May 6th \nAll entries postmarked by May 27th \nFind out more details at the New Castle County 4-H website.
URL:https://www.belfint.com/event/2022-4h-livestock-classic/
LOCATION:Delaware State Fairgrounds\, 18500 S. Dupont Hwy.\, Harrington\, DE\, 19952
CATEGORIES:BLS Sponsoring
ATTACH;FMTTYPE=image/jpeg:https://www.belfint.com/wp-content/uploads/2022/04/4H-Livestock-Classic-2022.jpg
GEO:38.9119676;-75.57313
X-APPLE-STRUCTURED-LOCATION;VALUE=URI;X-ADDRESS=Delaware State Fairgrounds 18500 S. Dupont Hwy. Harrington DE 19952;X-APPLE-RADIUS=500;X-TITLE=18500 S. Dupont Hwy.:geo:-75.57313,38.9119676
END:VEVENT
BEGIN:VEVENT
DTSTART;TZID=America/New_York:20220608T170000
DTEND;TZID=America/New_York:20220608T183000
DTSTAMP:20260422T065410
CREATED:20220203T164526Z
LAST-MODIFIED:20220203T164729Z
UID:10000202-1654707600-1654713000@www.belfint.com
SUMMARY:AICPA Engage 2022 Conference - Estate Planning for Non-Taxable Estates 10M and Less
DESCRIPTION:Jordon N. Rosen\, CPA\, MST\, AEP\, (Distinguished) and Karly Laughlin\, CPA will be presenting at the AICPA & CIMA ENGAGE22 Conference! \nAICPA & CIMA Engage 2022: Estate Planning for Non-Taxable Estates $10 Million or Less \n\n\nJune 8\, 2022 \n\n\n\n\n2:00 PM — 3:15 PM PDT \n5:00 PM — 6:15 PM EDT \n\nSession Information: https://agenda.aicpastore.com/sessions/eng2217 \n\nThis session will cover the importance of planning for the modest estate owner\, making the portability election vs. use of a credit shelter trust\, state death tax considerations\, filing the decedent’s final return including the use of losses\, disclaimers\, administrative and fiduciary elections available to the executor including Sections 645 and 663(b)\, gift tax elections\, along with elections available if the decedent was an owner in a partnership or S corporation\, and much more! \nLearning Objectives: \n\nParticipants will learn the mechanics and how to file to elect portability.\nParticipants will learn the various administrative and fiduciary elections and filing options available for the decedent’s final income tax return.\nParticipants will learn the benefits of Roth conversions\, life insurance planning and lifetime gifting for the modest estate owner.
URL:https://www.belfint.com/event/aicpa-engage-2022-estate-planning/
LOCATION:Delaware
CATEGORIES:BLS Speaking Engagement
ATTACH;FMTTYPE=image/jpeg:https://www.belfint.com/wp-content/uploads/2022/02/ENGAGE2022.jpg
END:VEVENT
BEGIN:VEVENT
DTSTART;VALUE=DATE:20220611
DTEND;VALUE=DATE:20220612
DTSTAMP:20260422T065410
CREATED:20220524T130645Z
LAST-MODIFIED:20231219T151345Z
UID:10000093-1654905600-1654991999@www.belfint.com
SUMMARY:Delaware Center for Justice 3rd Annual Ride for Justice
DESCRIPTION:BLS is a sponsor for the 3rd Annual Delaware Ride for Justice.  \nWhen: June 11\, 2022 – beginning at 7:30 AM (for 84.6 loop riders) – all other riders begin at 10:30 AM \nRain Date: June 12\, 2022 \nLearn more here: 3rd Annual Delaware Ride for Justice \nTwo years ago\, a group of local cyclists came together to honor the memory of George Floyd and raise money to support organizations fighting for justice in Delaware. They’ve chosen to partner with the Delaware Center for Justice this year\, recognizing the unique role that DCJ plays in the struggle for social justice in the First State. \nThis year’s family-friendly Delaware Ride for Justice will offer four routes from 5 miles\, 10 miles\, 28 miles\, and 84.6 miles\, a distance the organizers have chosen in memory of the final 8 minutes and 46 seconds of George Floyd’s life—and in recognition of the nationwide movement for justice that emerged as a result.
URL:https://www.belfint.com/event/delaware-center-for-justice-3rd-annual-ride-for-justice/
LOCATION:Delaware
CATEGORIES:BLS Sponsoring
ATTACH;FMTTYPE=image/jpeg:https://www.belfint.com/wp-content/uploads/2022/05/DCJ-Ride-for-Justice.jpg
END:VEVENT
BEGIN:VEVENT
DTSTART;TZID=America/New_York:20220611T080000
DTEND;TZID=America/New_York:20220611T110000
DTSTAMP:20260422T065410
CREATED:20220321T192718Z
LAST-MODIFIED:20220321T194129Z
UID:10000214-1654934400-1654945200@www.belfint.com
SUMMARY:Highmark Walk for a Healthy Community
DESCRIPTION:BLS CPAs is a Bronze Sponsor for the Highmark Walk for a Healthy Community event\, which benefits the Friendship House! \nThe Highmark Walk for a Healthy Community is an annual fundraising walk that benefits local health and human service agencies. \nThe primary goal of the walk is to help participating organizations raise money for their individual missions. One hundred percent of the funds raised through this event go directly back to the participating organizations\, as Highmark underwrites all the associated costs of the event. \nThe benefactor of the 2022 Delaware Walk for a Healthy Community event is Friendship House\, Inc. \n  \n\n\n\nWhere:\nTubman – Garrett Riverfront Park \n32 South King Street\, Wilmington\, DE 19801 \n50 Rosa Parks Dr\, Wilmington\, DE 19801\n\n\nWhen:\nSaturday\, June 11\, 2022\n\n\nImportant Times:\n7:45 a.m. check-in and registration\n\n\n9 a.m. 5K Walk\n\n\n9:15 a.m.- 1 Mile Walk\n\n\n\n  \nFind out more details at the Highmark Walk for a Healthy Community website. 
URL:https://www.belfint.com/event/highmark-walk-for-a-healthy-community/
LOCATION:Tubman Garrett Riverfront Park
CATEGORIES:BLS Sponsoring
ATTACH;FMTTYPE=image/jpeg:https://www.belfint.com/wp-content/uploads/2022/03/Walk-for-a-Healthy-Community.jpg
END:VEVENT
BEGIN:VEVENT
DTSTART;VALUE=DATE:20220615
DTEND;VALUE=DATE:20220616
DTSTAMP:20260422T065410
CREATED:20220114T173732Z
LAST-MODIFIED:20220114T173732Z
UID:10000197-1655251200-1655337599@www.belfint.com
SUMMARY:IMPORTANT DEADLINE: Individuals and Corporations
DESCRIPTION:INDIVIDUALS: Make a payment of your 2022 estimated tax if you’re not paying your income tax for the year through withholding (or won’t pay in enough tax that way). Use Form 1040-ES. This is the second installment date for estimated tax in 2021. For more information\, see Pub. 505.  \nCORPORATIONS: For calendar year corporations\, deposit the second installment of estimated income tax for 2022. A worksheet\, Form 1120-W\, is available to help you estimate your tax for the year.  \nFor additional information on these deadlines or our tax services\, please click here to contact us.
URL:https://www.belfint.com/event/tax-deadline-6-15-22/
LOCATION:Delaware
CATEGORIES:Important Update
ATTACH;FMTTYPE=image/jpeg:https://www.belfint.com/wp-content/uploads/2018/01/Events-Deadline-720x540-1.jpg
ORGANIZER;CN="Belfint Lyons & Shuman":MAILTO:jjones@belfint.com
END:VEVENT
BEGIN:VEVENT
DTSTART;VALUE=DATE:20220615
DTEND;VALUE=DATE:20220616
DTSTAMP:20260422T065410
CREATED:20220114T173534Z
LAST-MODIFIED:20220114T173534Z
UID:10000196-1655251200-1655337599@www.belfint.com
SUMMARY:IMPORTANT DEADLINE: International
DESCRIPTION:Deadline for 2021\, individual tax returns for US taxpayers residing abroad and partnerships which keep their books and records outside the United States (automatic 2-month extension from April 15). An automatic extension to December 15\, 2022\, using Form 4868 is available as long as individuals did not receive US wages. This is NOT an extension to pay.  \nFor additional information on these deadlines or our international services\, please click here to contact us.
URL:https://www.belfint.com/event/international-tax-deadline-6-15-22/
LOCATION:Delaware
CATEGORIES:Important Update
ATTACH;FMTTYPE=image/jpeg:https://www.belfint.com/wp-content/uploads/2018/01/Events-Deadline-720x540-1.jpg
ORGANIZER;CN="Belfint Lyons & Shuman":MAILTO:jjones@belfint.com
END:VEVENT
BEGIN:VEVENT
DTSTART;VALUE=DATE:20220623
DTEND;VALUE=DATE:20220624
DTSTAMP:20260422T065410
CREATED:20220419T145920Z
LAST-MODIFIED:20220419T150009Z
UID:10000218-1655942400-1656028799@www.belfint.com
SUMMARY:4th Annual GRAND Golf Classic
DESCRIPTION:BLS CPAs is a Hole Sponsor for the 4th Annual GRAND Golf Classic! Proceeds support The Grand’s Arts Education and Community Engagement Programs which serve more than 35\,000 young people and their families each year. \nJune 23\, 2022 at Rock Manor Golf Club \nEvent Schedule \n10:00AM\nRegistration Opens\nPre-Golf Reception\nRegistration\nLunch\nLive Entertainment\nCrush & Bloody Mary Bar \n12:00PM\nShotgun Start\nScramble Format \nImmediately Following Golf\nAfter Party including live music\, auction\, awards\, drone ball drop\, and more! \nChances to WIN Cash and prizes throughout the day! \nFind out more details at the The Grand’s Golf Classic website. 
URL:https://www.belfint.com/event/2022-grand-golf-classic/
LOCATION:Rock Manor Golf Club\, 1319 Carruthers Lane\, Wilmington\, Delaware\, 19803
CATEGORIES:BLS Sponsoring
ATTACH;FMTTYPE=image/jpeg:https://www.belfint.com/wp-content/uploads/2022/04/Grand-Golf-Classic-2022.jpg
GEO:39.7701687;-75.5389743
X-APPLE-STRUCTURED-LOCATION;VALUE=URI;X-ADDRESS=Rock Manor Golf Club 1319 Carruthers Lane Wilmington Delaware 19803;X-APPLE-RADIUS=500;X-TITLE=1319 Carruthers Lane:geo:-75.5389743,39.7701687
END:VEVENT
BEGIN:VEVENT
DTSTART;VALUE=DATE:20220630
DTEND;VALUE=DATE:20220701
DTSTAMP:20260422T065410
CREATED:20220114T174011Z
LAST-MODIFIED:20220114T174011Z
UID:10000198-1656547200-1656633599@www.belfint.com
SUMMARY:IMPORTANT DEADLINE: Employee Benefit Plans
DESCRIPTION:EMPLOYEE BENEFIT PLANS: \nCorrective distribution for failed ADP/ACP without 10% excise tax (EACA only)  \nFor additional information on these deadlines or our employee benefit plan audit services\, please click here to contact us.
URL:https://www.belfint.com/event/deadline-benefit-plans-6-30-22/
LOCATION:Delaware
CATEGORIES:Important Update
ATTACH;FMTTYPE=image/jpeg:https://www.belfint.com/wp-content/uploads/2018/01/Events-Deadline-720x540-1.jpg
ORGANIZER;CN="Belfint Lyons & Shuman":MAILTO:jjones@belfint.com
END:VEVENT
BEGIN:VEVENT
DTSTART;VALUE=DATE:20220729
DTEND;VALUE=DATE:20220730
DTSTAMP:20260422T065410
CREATED:20220114T174726Z
LAST-MODIFIED:20220114T174726Z
UID:10000072-1659052800-1659139199@www.belfint.com
SUMMARY:IMPORTANT DEADLINE: Employers with Employee Benefit Plans
DESCRIPTION:ALL EMPLOYERS WITH EMPLOYEE BENEFIT PLANS: \nBENEFIT PLAN DEADLINE (12/31 year end): \nForm 5500 and related schedules\, as applicable (A\, C\, D\, E\, H\, I\, R)\, with opinion of qualified public accountant\, 5500-EZ or Form 5500-SF\, if not extending  \nForm 8955-SSA – Annual registration statement identifying separated participants with deferred vested benefits\, if not extending  \nForm 5558 – Request for extension of time to file Form 5500 annual report and Form 8955-SSA  \nForm 5330 – Return of excise taxes related to Employee Benefit Plans – used to report and pay excise taxes on prohibited transactions and excess 401(k) Plan contributors that occurred in 2021.  \nFor additional information on these deadlines or our employee benefit plan audit services\, please click here to contact us.
URL:https://www.belfint.com/event/deadline-employee-benefit-plans-7-29-22/
LOCATION:Delaware
CATEGORIES:Important Update
ATTACH;FMTTYPE=image/jpeg:https://www.belfint.com/wp-content/uploads/2018/01/Events-Deadline-720x540-1.jpg
ORGANIZER;CN="Belfint Lyons & Shuman":MAILTO:jjones@belfint.com
END:VEVENT
BEGIN:VEVENT
DTSTART;VALUE=DATE:20220729
DTEND;VALUE=DATE:20220730
DTSTAMP:20260422T065410
CREATED:20220114T174334Z
LAST-MODIFIED:20220114T174334Z
UID:10000070-1659052800-1659139199@www.belfint.com
SUMMARY:IMPORTANT DEADLINE: Benefit Plans (12/31 year end)
DESCRIPTION:BENEFIT PLAN DEADLINE (12/31 year end): \nSummary of Material Modifications (SMM) or Summary Plan Description (SPD) must be distributed within 210 days after the end of the plan year when a plan’s provisions have material changes  \nCorrective distribution for failed ADP/ACP without 10% excise tax (EACA only)  \nFor additional information on these deadlines or our employee benefit plan audit services\, please click here to contact us.
URL:https://www.belfint.com/event/deadline-benefit-plans-7-29-22/
LOCATION:Delaware
CATEGORIES:Important Update
ATTACH;FMTTYPE=image/jpeg:https://www.belfint.com/wp-content/uploads/2018/01/Events-Deadline-720x540-1.jpg
ORGANIZER;CN="Belfint Lyons & Shuman":MAILTO:jjones@belfint.com
END:VEVENT
BEGIN:VEVENT
DTSTART;TZID=America/New_York:20220802T083000
DTEND;TZID=America/New_York:20220804T170000
DTSTAMP:20260422T065410
CREATED:20220711T135110Z
LAST-MODIFIED:20220711T135311Z
UID:10000102-1659429000-1659632400@www.belfint.com
SUMMARY:#MillSummit 2022
DESCRIPTION:BLS CPAs is a Venture Sponsor of the 2022 Millennial Summit #MILLSUMMIT! \nThe Millennial Summit is the region’s premier experience where young professionals\, impact players\, rising stars and innovators come together to connect and grow. \n\nExpand your circle of influence\nCreate the career of your dreams\nImpact your region\n\nJOIN IN-PERSON OR VIRTUALLY! \n#MILLSUMMIT inspires attendees to speak up and get involved with their community\, grow professionally\, and connect with visionaries and innovators who are moving the needle. \nGo to the Millennial Summit website for additional information or to their registration page to register. We hope to see you there!
URL:https://www.belfint.com/event/2022-millennial-summit-delaware/
LOCATION:The Queen\, Wilmington\, 500 N. Market Street\, Wilmington\, Delaware\, 19801
CATEGORIES:BLS Sponsoring
ATTACH;FMTTYPE=image/jpeg:https://www.belfint.com/wp-content/uploads/2018/07/Millennial-Summit.jpg
GEO:39.7411018;-75.5502779
X-APPLE-STRUCTURED-LOCATION;VALUE=URI;X-ADDRESS=The Queen Wilmington 500 N. Market Street Wilmington Delaware 19801;X-APPLE-RADIUS=500;X-TITLE=500 N. Market Street:geo:-75.5502779,39.7411018
END:VEVENT
BEGIN:VEVENT
DTSTART;TZID=America/New_York:20220812T130000
DTEND;TZID=America/New_York:20220812T190000
DTSTAMP:20260422T065410
CREATED:20220603T131957Z
LAST-MODIFIED:20220603T131957Z
UID:10000095-1660309200-1660330800@www.belfint.com
SUMMARY:Lighthouse Youth Center Golf Tournament
DESCRIPTION:BLS is a Sponsor of the 2022 Lighthouse Youth Center Golf Tournament! \nJoin the Lighthouse Youth Center of Oxford\, PA for a fun day out on the golf course. The tournament is held at Tangelwood Golf Course in Quarryville\, PA. This event provides funds for their summer and educational programs. \nAugust 12\, 2022 \nTangelwood Golf Course \n1:00 – Tournament Start \nAdditional information can be found on Lighthouse Youth Center’s page on their website.
URL:https://www.belfint.com/event/lighthouse-youth-center-golf-2022/
LOCATION:Tangelwood Golf Course\, 653 Scotland Rd\, Quarryville\, 17566
CATEGORIES:BLS Sponsoring
ATTACH;FMTTYPE=image/jpeg:https://www.belfint.com/wp-content/uploads/2022/06/LighthouseYouthCenter.jpg
GEO:39.8576327;-76.2058584
X-APPLE-STRUCTURED-LOCATION;VALUE=URI;X-ADDRESS=Tangelwood Golf Course 653 Scotland Rd Quarryville 17566;X-APPLE-RADIUS=500;X-TITLE=653 Scotland Rd:geo:-76.2058584,39.8576327
END:VEVENT
BEGIN:VEVENT
DTSTART;TZID=America/New_York:20220829T113000
DTEND;TZID=America/New_York:20220829T193000
DTSTAMP:20260422T065410
CREATED:20220510T155451Z
LAST-MODIFIED:20220510T155451Z
UID:10000091-1661772600-1661801400@www.belfint.com
SUMMARY:Christ Church Christiana Hundred Golf Classic
DESCRIPTION:BLS is a Tee Sponsor for the 2022 Christ Church Christiana Hundred Golf Classic! \nAugust 29\, 2022 \nHartefeld National \n11:30-1:00 – Registration & Lunch \n1:00 – Shotgun Start \n5:30-7:30 – Cocktail Party \nAdditional information can be found on Christ Church’s Golf Classic page on their website.
URL:https://www.belfint.com/event/christ-church-golf-classic-2022/
LOCATION:Hartefeld National\, PA\, 19311\, United States
CATEGORIES:BLS Sponsoring
ATTACH;FMTTYPE=image/jpeg:https://www.belfint.com/wp-content/uploads/2022/05/Christ-Church.jpg
GEO:39.8210741;-75.777846
END:VEVENT
END:VCALENDAR