BEGIN:VCALENDAR
VERSION:2.0
PRODID:-// - ECPv6.15.20//NONSGML v1.0//EN
CALSCALE:GREGORIAN
METHOD:PUBLISH
X-ORIGINAL-URL:https://www.belfint.com
X-WR-CALDESC:Events for 
REFRESH-INTERVAL;VALUE=DURATION:PT1H
X-Robots-Tag:noindex
X-PUBLISHED-TTL:PT1H
BEGIN:VTIMEZONE
TZID:America/New_York
BEGIN:DAYLIGHT
TZOFFSETFROM:-0500
TZOFFSETTO:-0400
TZNAME:EDT
DTSTART:20230312T070000
END:DAYLIGHT
BEGIN:STANDARD
TZOFFSETFROM:-0400
TZOFFSETTO:-0500
TZNAME:EST
DTSTART:20231105T060000
END:STANDARD
BEGIN:DAYLIGHT
TZOFFSETFROM:-0500
TZOFFSETTO:-0400
TZNAME:EDT
DTSTART:20240310T070000
END:DAYLIGHT
BEGIN:STANDARD
TZOFFSETFROM:-0400
TZOFFSETTO:-0500
TZNAME:EST
DTSTART:20241103T060000
END:STANDARD
BEGIN:DAYLIGHT
TZOFFSETFROM:-0500
TZOFFSETTO:-0400
TZNAME:EDT
DTSTART:20250309T070000
END:DAYLIGHT
BEGIN:STANDARD
TZOFFSETFROM:-0400
TZOFFSETTO:-0500
TZNAME:EST
DTSTART:20251102T060000
END:STANDARD
END:VTIMEZONE
BEGIN:VEVENT
DTSTART;TZID=America/New_York:20240117T090000
DTEND;TZID=America/New_York:20240117T103000
DTSTAMP:20260424T213935
CREATED:20231219T134715Z
LAST-MODIFIED:20240123T164911Z
UID:10000311-1705482000-1705487400@www.belfint.com
SUMMARY:Belfint Briefing Webinar: Corporate Transparency Act\, SECURE 2.0 and more...
DESCRIPTION:Please join Belfint\, Lyons & Shuman\, CPAs for an informative webinar on the Corporate Transparency Act\, SECURE 2.0 as it relates to tax planning\, and other critical developments that affect businesses\, individuals\, estates\, and trusts. In an era marked by constant regulatory evolution and an increased focus on transparency and security\, it is imperative to stay informed and adapt. \nOur team is excited to update you on these important topics\, providing you with valuable insights and practical knowledge to navigate the ever-changing landscape of corporate governance and financial security. Join us as we delve into the Corporate Transparency Act’s implications\, explore the enhanced features of Secure 2.0\, and discuss other key updates that will shape the way you manage your financial affairs and compliance obligations. \n \n  \n  \nTOPICS: \n\nGeneral Updates\nSECURE 2.0\nCorporate Transparency Act – What you need to know\n\nWHEN: \nWednesday\, January 17\, 2024 \n9:00 – 10:30am ET \nWHERE: \nBLS Zoom Webinar \n*Zoom details will be sent upon registration \n  \nThis seminar is eligible for 1 hour of CPE! \nPresenters: \nKarly Laughlin\, CPA\, AEP \nMike Kelly\, CPA \n  \n\n\nFor additional details\, please contact Jenni Fleck Jones at jjones@belfint.com \n  \nCPE Information  \nBelfint\, Lyons & Shuman\, P.A. is registered with the National Association of State Boards of Accountancy (NASBA) as a sponsor of continuing professional education of the National Registry of CPE Sponsors. State boards of accountancy have final authority on the acceptance of individual courses for CPE credit. Complaints regarding registered sponsors may be addressed to the National Registry of CPE Sponsors\, 150 Fourth Avenue North\, Suite 700\, Nashville\, TN 37219-2417 – www.NASBA.org. \nDelivery Method: Group Internet Based\nField of Study: Taxes\nCPE Credits: 1\nLearning Objectives: Participants will be given a general overview of the Corporate Transparency Act\, learn how SECURE 2.0 could impact them\, and receive general tax updates for individuals\, businesses\, estates\, and trusts.\nProgram Level: Overview\nProgram Prerequisites: None\nAdvance Preparation Needed: None \nFor more information regarding concerns or cancellation policies\, please contact LeAnne Diebold\, SPHR\, at ldiebold@belfint.com.
URL:https://www.belfint.com/event/cta-webinar/
LOCATION:Zoom
CATEGORIES:Belfint Briefing,BLS Speaking Engagement
ATTACH;FMTTYPE=image/jpeg:https://www.belfint.com/wp-content/uploads/2021/11/WebsiteBelfintBriefingWebinar.jpg
ORGANIZER;CN="Belfint Lyons & Shuman":MAILTO:jjones@belfint.com
END:VEVENT
BEGIN:VEVENT
DTSTART;VALUE=DATE:20240124
DTEND;VALUE=DATE:20240125
DTSTAMP:20260424T213935
CREATED:20240129T154112Z
LAST-MODIFIED:20240129T154126Z
UID:10000332-1706054400-1706140799@www.belfint.com
SUMMARY:Strafford: 401k Annual Audits: Anticipating Serious and Costly Errors\, Understanding the Latest SASs\, and Impact of Recent Legislation
DESCRIPTION:Christopher J. Ciminera\, CPA\, QKA is co-presenting Strafford’s Webinar – 401k Annual Audits: Anticipating Serious and Costly Errors\, Understanding the Latest SASs\, and Impact of Recent Legislation \nTopic: 401k Annual Audits: Anticipating Serious and Costly Errors\, Understanding the Latest SASs\, and Impact of Recent Legislation \nDate: January 24\, 2024 \nCo-Presenters: \n\nChristopher J. Ciminera\, CPA\, QKA – Belfint\, Lyons & Shuman\, CPAs\nKristin Ryan\, CPA – Ryan + Mann\n\n\nProficiency in administrating and auditing 401(k) plans requires staying on top of myriad and ever-changing IRS\, DOL\, and accounting rules and regulations. Most 401(k) plans with more than 100 participants with balances (formerly included eligible employees) must attach audited financials to the Form 5500\, which are closely scrutinized by the DOL and IRS.Audit professionals and advisers must know red flags identified by the IRS and DOL in Form 5500 filings and be able to identify these problems prior to filing the Form 5500 to get ahead of any issue with the IRS. \nOur panel of veteran professionals will review differences in non-ERISA Section 103(a)(3)(C) and ERISA Section 103(a)(3)(C) audits\, recent changes made under SASs affecting retirement plan audits\, and new considerations for these audits regarding new legislation and changes including the SECURE Acts. \nListen as our panel offers best practices and insights based on real world experience for avoiding common high-risk mistakes associated with 401(k) audits. The panel will also outline approaches to identify and correct plan errors before an audit or after a filing and how recent SASs and the SECURE Act modify audit requirements. \n\n\nFor more information\, visit Strafford’s Webinar Listing.
URL:https://www.belfint.com/event/strafford-401k-audits/
CATEGORIES:BLS Speaking Engagement
ATTACH;FMTTYPE=image/png:https://www.belfint.com/wp-content/uploads/2020/11/strafford.png
END:VEVENT
BEGIN:VEVENT
DTSTART;TZID=America/New_York:20240129T160000
DTEND;TZID=America/New_York:20240129T191500
DTSTAMP:20260424T213935
CREATED:20231009T150214Z
LAST-MODIFIED:20231219T163110Z
UID:10000308-1706544000-1706555700@www.belfint.com
SUMMARY:DSCC 187th Annual Dinner – BLS Sponsoring
DESCRIPTION:BLS IS PROUD TO BE A SMALL BUSINESS LEADER SPONSOR THE DELAWARE STATE CHAMBER OF COMMERCE (DSCC) 187th ANNUAL DINNER! \nThe DSCC Annual Dinner is Delaware’s premier business event has always been the place to be in January for high level networking with more than 1\,100 business leaders and elected officials. \nKeynote Speakers:  \nHerve Hoppenot – Chairman and Chief Executive Officer – Incyte \n  \nAgenda:\n4:00 pm     Cocktail Reception\n5:20 pm     Welcoming Remarks\n5:45 pm     Presentation of the Josiah Marvel Cup\n6:00 pm     Dinner\n6:40 pm     Keynote Speaker\n7:15 pm     Adjournment \nFor additional details\, visit the DSCC 187th Annual Dinner Webpage. 
URL:https://www.belfint.com/event/dscc-annual-dinner-2024/
LOCATION:Chase Center on the Riverfront\, 815 Justison Street \, Wilmington\, DE\, 19801\, United States
CATEGORIES:BLS Sponsoring
ATTACH;FMTTYPE=image/png:https://www.belfint.com/wp-content/uploads/2023/10/DSCC-187-Annual-Dinner.png
GEO:39.731089;-75.5630543
X-APPLE-STRUCTURED-LOCATION;VALUE=URI;X-ADDRESS=Chase Center on the Riverfront 815 Justison Street  Wilmington DE 19801 United States;X-APPLE-RADIUS=500;X-TITLE=815 Justison Street:geo:-75.5630543,39.731089
END:VEVENT
BEGIN:VEVENT
DTSTART;VALUE=DATE:20240131
DTEND;VALUE=DATE:20240201
DTSTAMP:20260424T213935
CREATED:20240108T152102Z
LAST-MODIFIED:20240108T152102Z
UID:10000184-1706659200-1706745599@www.belfint.com
SUMMARY:IMPORTANT DEADLINE: All Employers and Businesses
DESCRIPTION:ALL EMPLOYERS: \nAll employers must have distributed 2023 W-2 forms to their employees and Form 1099s to their proper recipients. \nBUSINESSES: Give annual information statements to recipients of certain payments you made during 2023. You can use the appropriate version of Form 1099 or other information return. Form 1099 can be issued electronically with the consent of the recipient. Payments that may be covered include the\nfollowing.  \n\nCash payments for fish (or other aquatic life) purchased from anyone engaged in\nthe trade or business of catching fish. \nCompensation for workers who aren’t considered employees (including fishing\nboat proceeds to crew members). \nDividends and other corporate distributions. \nInterest. \nRent. \nRoyalties. \nPayments of Indian gaming profits to tribal members. \nProfit-sharing distributions. \nRetirement plan distributions. \nOriginal issue discount. \nPrizes and awards. \nMedical and health care payments. \nDebt cancellation (treated as payment to debtor). \nCash payments over $10\,000. See the Form 8300 instructions. \n\nFor additional information on these deadlines or our tax services\, please click here to contact us.
URL:https://www.belfint.com/event/tax-deadline-businesses-1-31-24/
CATEGORIES:Important Update
ATTACH;FMTTYPE=image/jpeg:https://www.belfint.com/wp-content/uploads/2018/01/Events-Deadline-720x540-1.jpg
ORGANIZER;CN="Belfint Lyons & Shuman":MAILTO:jjones@belfint.com
END:VEVENT
BEGIN:VEVENT
DTSTART;VALUE=DATE:20240131
DTEND;VALUE=DATE:20240201
DTSTAMP:20260424T213935
CREATED:20240108T151912Z
LAST-MODIFIED:20240108T151912Z
UID:10000313-1706659200-1706745599@www.belfint.com
SUMMARY:IMPORTANT DEADLINE: Benefit Plans (12/31 year end)
DESCRIPTION:BENEFIT PLAN DEADLINE (12/31 year end): \nForm 1099-R due to participants who received distribution in 2023.  \nForm W-2 due to report employee’s active participant status for 2023.  \nFor additional information on these deadlines or our employee benefit plan audit services\, please click here to contact us.
URL:https://www.belfint.com/event/deadline-benefit-plans-yr-end-1-31-24/
CATEGORIES:Important Update
ATTACH;FMTTYPE=image/jpeg:https://www.belfint.com/wp-content/uploads/2018/01/Events-Deadline-720x540-1.jpg
ORGANIZER;CN="Belfint Lyons & Shuman":MAILTO:jjones@belfint.com
END:VEVENT
END:VCALENDAR