BEGIN:VCALENDAR
VERSION:2.0
PRODID:-// - ECPv6.15.20//NONSGML v1.0//EN
CALSCALE:GREGORIAN
METHOD:PUBLISH
X-ORIGINAL-URL:https://www.belfint.com
X-WR-CALDESC:Events for 
REFRESH-INTERVAL;VALUE=DURATION:PT1H
X-Robots-Tag:noindex
X-PUBLISHED-TTL:PT1H
BEGIN:VTIMEZONE
TZID:America/New_York
BEGIN:DAYLIGHT
TZOFFSETFROM:-0500
TZOFFSETTO:-0400
TZNAME:EDT
DTSTART:20230312T070000
END:DAYLIGHT
BEGIN:STANDARD
TZOFFSETFROM:-0400
TZOFFSETTO:-0500
TZNAME:EST
DTSTART:20231105T060000
END:STANDARD
BEGIN:DAYLIGHT
TZOFFSETFROM:-0500
TZOFFSETTO:-0400
TZNAME:EDT
DTSTART:20240310T070000
END:DAYLIGHT
BEGIN:STANDARD
TZOFFSETFROM:-0400
TZOFFSETTO:-0500
TZNAME:EST
DTSTART:20241103T060000
END:STANDARD
BEGIN:DAYLIGHT
TZOFFSETFROM:-0500
TZOFFSETTO:-0400
TZNAME:EDT
DTSTART:20250309T070000
END:DAYLIGHT
BEGIN:STANDARD
TZOFFSETFROM:-0400
TZOFFSETTO:-0500
TZNAME:EST
DTSTART:20251102T060000
END:STANDARD
END:VTIMEZONE
BEGIN:VEVENT
DTSTART;TZID=America/New_York:20241106T110000
DTEND;TZID=America/New_York:20241106T133000
DTSTAMP:20260423T182620
CREATED:20240926T151608Z
LAST-MODIFIED:20240926T152717Z
UID:10000379-1730890800-1730899800@www.belfint.com
SUMMARY:DSCC Superstars in Business Luncheon
DESCRIPTION:BLS is a Silver Sponsor for the Superstars in Business Luncheon! \nBLS is looking forward to the Delaware State Chamber of Commerce 26th Annual Superstars in Business Luncheon on November 6! The Marvin S. Gilman Superstars in Business award honors businesses and nonprofits for their outstanding achievements and model approaches to business and management. Established in 1998\, the awards are given annually to extraordinary businesses in honor of Marvin S. Gilman\, who was a distinguished small business leader in Delaware. \nKeynote Speaker: Michael Meoli\, President and Owner/Operator of The Meoli Companies \nAgenda:\n11:15 am   Registration and networking\n12:00 pm   Lunch\n12:30 pm   Keynote speaker\n1:00 pm     Awards presentation\n1:45 pm     Adjourn \nFor more information please visit DSCC Superstars in Business. \n 
URL:https://www.belfint.com/event/dscc-superstars-in-business-2024/
LOCATION:Hotel du Pont – Gold Ballroom\, 11th & Market Streets\, Wilmington\, DE\, 19801\, United States
CATEGORIES:BLS Sponsoring
ATTACH;FMTTYPE=image/jpeg:https://www.belfint.com/wp-content/uploads/2018/07/DSCC-Superstars.jpg
GEO:39.746594;-75.5478072
X-APPLE-STRUCTURED-LOCATION;VALUE=URI;X-ADDRESS=Hotel du Pont – Gold Ballroom 11th & Market Streets Wilmington DE 19801 United States;X-APPLE-RADIUS=500;X-TITLE=11th & Market Streets:geo:-75.5478072,39.746594
END:VEVENT
BEGIN:VEVENT
DTSTART;TZID=America/New_York:20241107T180000
DTEND;TZID=America/New_York:20241107T193000
DTSTAMP:20260423T182620
CREATED:20241106T150042Z
LAST-MODIFIED:20241106T150042Z
UID:10000390-1731002400-1731007800@www.belfint.com
SUMMARY:West Chester University - Beta Alpha Psi Small Firms Night
DESCRIPTION:BLS CPAs will be attending West Chester University – Beta Alpha Psi’s Small Firms Night where students can hear from accountants from various local small to mid sized firms! Bella LaPlante\, Staff Accountant will be a panelist and Jenni Fleck Jones\, College Recruiter will be available to answer questions. \nWCU Students – be sure to talk with us about our College Programs.
URL:https://www.belfint.com/event/wcu-beta-alpha-psi-small-firms-night/
LOCATION:West Chester University – Business and Public Management\, 50 Sharpless Street\, Room 212\, West Chester\, PA\, United States
CATEGORIES:BLS Speaking Engagement,Recruiting Event
ATTACH;FMTTYPE=image/jpeg:https://www.belfint.com/wp-content/uploads/2024/11/BAP-WCU.jpg
GEO:39.954151;-75.6004724
X-APPLE-STRUCTURED-LOCATION;VALUE=URI;X-ADDRESS=West Chester University – Business and Public Management 50 Sharpless Street Room 212 West Chester PA United States;X-APPLE-RADIUS=500;X-TITLE=50 Sharpless Street\, Room 212:geo:-75.6004724,39.954151
END:VEVENT
END:VCALENDAR