BEGIN:VCALENDAR
VERSION:2.0
PRODID:-// - ECPv6.15.20//NONSGML v1.0//EN
CALSCALE:GREGORIAN
METHOD:PUBLISH
X-ORIGINAL-URL:https://www.belfint.com
X-WR-CALDESC:Events for 
REFRESH-INTERVAL;VALUE=DURATION:PT1H
X-Robots-Tag:noindex
X-PUBLISHED-TTL:PT1H
BEGIN:VTIMEZONE
TZID:America/New_York
BEGIN:DAYLIGHT
TZOFFSETFROM:-0500
TZOFFSETTO:-0400
TZNAME:EDT
DTSTART:20230312T070000
END:DAYLIGHT
BEGIN:STANDARD
TZOFFSETFROM:-0400
TZOFFSETTO:-0500
TZNAME:EST
DTSTART:20231105T060000
END:STANDARD
BEGIN:DAYLIGHT
TZOFFSETFROM:-0500
TZOFFSETTO:-0400
TZNAME:EDT
DTSTART:20240310T070000
END:DAYLIGHT
BEGIN:STANDARD
TZOFFSETFROM:-0400
TZOFFSETTO:-0500
TZNAME:EST
DTSTART:20241103T060000
END:STANDARD
BEGIN:DAYLIGHT
TZOFFSETFROM:-0500
TZOFFSETTO:-0400
TZNAME:EDT
DTSTART:20250309T070000
END:DAYLIGHT
BEGIN:STANDARD
TZOFFSETFROM:-0400
TZOFFSETTO:-0500
TZNAME:EST
DTSTART:20251102T060000
END:STANDARD
END:VTIMEZONE
BEGIN:VEVENT
DTSTART;TZID=America/New_York:20241119T080000
DTEND;TZID=America/New_York:20241119T113000
DTSTAMP:20260423T143802
CREATED:20241106T150843Z
LAST-MODIFIED:20241106T150843Z
UID:10000391-1732003200-1732015800@www.belfint.com
SUMMARY:Smyrna Middle School Career Exploration Fair
DESCRIPTION:Christina Bell\, CPA will be sharing the good news about how rewarding a career as a CPA can be to the students at Smyrna Middle School.  \nStudents will hear about the many possibilities that are out there for future careers\, what the day-to-day life is like in those careers\, and the paths they can take that lead to them. \nWhen: Wednesday\, November 19\, 2024 from 8:00AM until 11:30AM \nWhere: Smyrna Middle School – 700 Duck Creek Parkway\, Smyrna\, DE 19977 \nWhat will the event look like?: Students will be able to choose tables to visit on a set rotation schedule. Presenters will have about 10 minutes per rotation to share with students what they do for work\, what their career path looked like to get to that point\, and answer any questions with the remaining time.
URL:https://www.belfint.com/event/smyrna-career-exploration-fair-2024/
LOCATION:Smyrna Middle School\, 700 Duck Creek Parkway\, Smyrna\, Delaware\, 19977
CATEGORIES:BLS Speaking Engagement,Recruiting Event
ATTACH;FMTTYPE=image/png:https://www.belfint.com/wp-content/uploads/2023/10/Smyrna-Middle-School.png
GEO:39.3027803;-75.6236275
X-APPLE-STRUCTURED-LOCATION;VALUE=URI;X-ADDRESS=Smyrna Middle School 700 Duck Creek Parkway Smyrna Delaware 19977;X-APPLE-RADIUS=500;X-TITLE=700 Duck Creek Parkway:geo:-75.6236275,39.3027803
END:VEVENT
BEGIN:VEVENT
DTSTART;TZID=America/New_York:20241123T080000
DTEND;TZID=America/New_York:20241123T110000
DTSTAMP:20260423T143802
CREATED:20240827T192721Z
LAST-MODIFIED:20240827T200458Z
UID:10000372-1732348800-1732359600@www.belfint.com
SUMMARY:Catholic Charities Bishop's 5K
DESCRIPTION:BLS is a Supporter Sponsor for Catholic Charities’ Bishop’s 5k Run/Walk. \nEach year\, Catholic Charities of the Diocese of Wilmington benefits from the Bishop’s 5K Run/Walk.  This community event and fundraiser is an opportunity to assist Catholic Charities with the critical mission of helping the needy and underprivileged who live in our own neighborhoods. \nNovember 23 \n8-11am – Race Starts at 9am \nSt. Marks High School \nLearn more here: https://www.ccwilm.org/events/the-bishops-5k-runwalk/
URL:https://www.belfint.com/event/catholic-charities-bishops-5k-2024/
LOCATION:St. Marks High School\, 2501 Pike Creek Road\, Wilmington\, Delaware\, 19808
CATEGORIES:BLS Sponsoring
ATTACH;FMTTYPE=image/jpeg:https://www.belfint.com/wp-content/uploads/2022/09/Bishops-5k.jpg
GEO:39.7179391;-75.6892608
X-APPLE-STRUCTURED-LOCATION;VALUE=URI;X-ADDRESS=St. Marks High School 2501 Pike Creek Road Wilmington Delaware 19808;X-APPLE-RADIUS=500;X-TITLE=2501 Pike Creek Road:geo:-75.6892608,39.7179391
END:VEVENT
END:VCALENDAR