BEGIN:VCALENDAR
VERSION:2.0
PRODID:-// - ECPv6.15.20//NONSGML v1.0//EN
CALSCALE:GREGORIAN
METHOD:PUBLISH
X-ORIGINAL-URL:https://www.belfint.com
X-WR-CALDESC:Events for 
REFRESH-INTERVAL;VALUE=DURATION:PT1H
X-Robots-Tag:noindex
X-PUBLISHED-TTL:PT1H
BEGIN:VTIMEZONE
TZID:America/New_York
BEGIN:DAYLIGHT
TZOFFSETFROM:-0500
TZOFFSETTO:-0400
TZNAME:EDT
DTSTART:20240310T070000
END:DAYLIGHT
BEGIN:STANDARD
TZOFFSETFROM:-0400
TZOFFSETTO:-0500
TZNAME:EST
DTSTART:20241103T060000
END:STANDARD
BEGIN:DAYLIGHT
TZOFFSETFROM:-0500
TZOFFSETTO:-0400
TZNAME:EDT
DTSTART:20250309T070000
END:DAYLIGHT
BEGIN:STANDARD
TZOFFSETFROM:-0400
TZOFFSETTO:-0500
TZNAME:EST
DTSTART:20251102T060000
END:STANDARD
BEGIN:DAYLIGHT
TZOFFSETFROM:-0500
TZOFFSETTO:-0400
TZNAME:EDT
DTSTART:20260308T070000
END:DAYLIGHT
BEGIN:STANDARD
TZOFFSETFROM:-0400
TZOFFSETTO:-0500
TZNAME:EST
DTSTART:20261101T060000
END:STANDARD
END:VTIMEZONE
BEGIN:VEVENT
DTSTART;TZID=America/New_York:20250130T090000
DTEND;TZID=America/New_York:20250130T150000
DTSTAMP:20260421T143029
CREATED:20250129T195107Z
LAST-MODIFIED:20250129T195107Z
UID:10000424-1738227600-1738249200@www.belfint.com
SUMMARY:DECA Delaware: 2025 DE DECA State Career Development Conference
DESCRIPTION:Jenni Fleck Jones is a Marketing judge at DECA Delaware’s 2025 State Conference! \nDate of Conference: January 29 and 30 \nLocation: University of Delaware Trabant Center\, 17 West Main Street\, Newark\, DE \nDECA prepares emerging leaders and entrepreneurs in marketing\, finance\, hospitality\, and management in high schools and colleges around the globe. Over 40 events are held at the state competition with over 250 students from across Delaware who compete for a spot to attend the International Career Development Conference in April 2025. \n\nFor more information\, visit DECA Delaware’s Website.
URL:https://www.belfint.com/event/deca-delaware-2025-conference/
LOCATION:University of Delaware – Trabant Center\, Newark\, DE\, 19711\, United States
CATEGORIES:BLS Speaking Engagement
ATTACH;FMTTYPE=image/jpeg:https://www.belfint.com/wp-content/uploads/2025/01/DECA-DE-Conference.jpg
END:VEVENT
BEGIN:VEVENT
DTSTART;VALUE=DATE:20250131
DTEND;VALUE=DATE:20250201
DTSTAMP:20260421T143029
CREATED:20250106T170020Z
LAST-MODIFIED:20250106T170020Z
UID:10000394-1738281600-1738367999@www.belfint.com
SUMMARY:IMPORTANT DEADLINE: Benefit Plans (12/31 year end)
DESCRIPTION:BENEFIT PLAN DEADLINE (12/31 year end): \nForm 1099-R due to participants who received distribution in 2024.  \nForm W-2 due to report employee’s active participant status for 2024.  \nFor additional information on these deadlines or our employee benefit plan audit services\, please click here to contact us.
URL:https://www.belfint.com/event/deadline-benefit-plans-yr-end-1-31-25/
LOCATION:Delaware
CATEGORIES:Important Update
ATTACH;FMTTYPE=image/jpeg:https://www.belfint.com/wp-content/uploads/2018/01/Events-Deadline-720x540-1.jpg
ORGANIZER;CN="Belfint Lyons & Shuman":MAILTO:jjones@belfint.com
END:VEVENT
BEGIN:VEVENT
DTSTART;TZID=America/New_York:20250201T090000
DTEND;TZID=America/New_York:20250201T120000
DTSTAMP:20260421T143030
CREATED:20250107T204136Z
LAST-MODIFIED:20250107T204225Z
UID:10000412-1738400400-1738411200@www.belfint.com
SUMMARY:NAWIC Delaware 30th Annual Block Kids Competition
DESCRIPTION:BLS CPAs is a Sponsor for the 30th Annual Block Kids Competition hosted by NAWIC Wilmington Delaware Chapter #96! \nNAWIC Delaware Chapter #96 hosts a FREE event for students in grades 1 thru 6 to help them learn about the construction industry. The students\, working independently in each grade group\, use 100 Lego-like building blocks\, string\, cardboard\, one rock\, and foil to build something related to the construction industry. All materials are provided. After the projects are built\, the students discuss their projects with judges\, who are local construction business people\, owners and architects. \nFor additional information\, please visit NAWIC Delaware’s Website.
URL:https://www.belfint.com/event/nawic-delaware-block-kids-2025/
LOCATION:Hodgson Vo-Tech\, 2575 Glasgow Avenue\, Newark\, Delaware\, 19702
CATEGORIES:BLS Sponsoring
ATTACH;FMTTYPE=image/jpeg:https://www.belfint.com/wp-content/uploads/2025/01/2025-NAWIC-Block-Kids.jpg
GEO:39.6007593;-75.7405106
X-APPLE-STRUCTURED-LOCATION;VALUE=URI;X-ADDRESS=Hodgson Vo-Tech 2575 Glasgow Avenue Newark Delaware 19702;X-APPLE-RADIUS=500;X-TITLE=2575 Glasgow Avenue:geo:-75.7405106,39.6007593
END:VEVENT
END:VCALENDAR