BEGIN:VCALENDAR
VERSION:2.0
PRODID:-// - ECPv6.15.20//NONSGML v1.0//EN
CALSCALE:GREGORIAN
METHOD:PUBLISH
X-ORIGINAL-URL:https://www.belfint.com
X-WR-CALDESC:Events for 
REFRESH-INTERVAL;VALUE=DURATION:PT1H
X-Robots-Tag:noindex
X-PUBLISHED-TTL:PT1H
BEGIN:VTIMEZONE
TZID:America/New_York
BEGIN:DAYLIGHT
TZOFFSETFROM:-0500
TZOFFSETTO:-0400
TZNAME:EDT
DTSTART:20220313T070000
END:DAYLIGHT
BEGIN:STANDARD
TZOFFSETFROM:-0400
TZOFFSETTO:-0500
TZNAME:EST
DTSTART:20221106T060000
END:STANDARD
BEGIN:DAYLIGHT
TZOFFSETFROM:-0500
TZOFFSETTO:-0400
TZNAME:EDT
DTSTART:20230312T070000
END:DAYLIGHT
BEGIN:STANDARD
TZOFFSETFROM:-0400
TZOFFSETTO:-0500
TZNAME:EST
DTSTART:20231105T060000
END:STANDARD
BEGIN:DAYLIGHT
TZOFFSETFROM:-0500
TZOFFSETTO:-0400
TZNAME:EDT
DTSTART:20240310T070000
END:DAYLIGHT
BEGIN:STANDARD
TZOFFSETFROM:-0400
TZOFFSETTO:-0500
TZNAME:EST
DTSTART:20241103T060000
END:STANDARD
BEGIN:DAYLIGHT
TZOFFSETFROM:-0500
TZOFFSETTO:-0400
TZNAME:EDT
DTSTART:20250309T070000
END:DAYLIGHT
BEGIN:STANDARD
TZOFFSETFROM:-0400
TZOFFSETTO:-0500
TZNAME:EST
DTSTART:20251102T060000
END:STANDARD
BEGIN:DAYLIGHT
TZOFFSETFROM:-0500
TZOFFSETTO:-0400
TZNAME:EDT
DTSTART:20260308T070000
END:DAYLIGHT
BEGIN:STANDARD
TZOFFSETFROM:-0400
TZOFFSETTO:-0500
TZNAME:EST
DTSTART:20261101T060000
END:STANDARD
END:VTIMEZONE
BEGIN:VEVENT
DTSTART;TZID=America/New_York:20250724T120000
DTEND;TZID=America/New_York:20250724T130000
DTSTAMP:20260420T192649
CREATED:20250708T182827Z
LAST-MODIFIED:20250708T182827Z
UID:10000449-1753358400-1753362000@www.belfint.com
SUMMARY:401(k) and 403(b) Designated Roth Accounts: Soup to Nuts
DESCRIPTION:Maria T. Hurd\, CPA\, RPA will be presenting at the July Delaware SHRM Webinar Series! \n401(k) and 403(b) Designated Roth Accounts: Soup to Nuts \n\n\nJuly 24\, 2025 \n\n\n\n\n12:00 PM — 1:00 PM EDT \n\n\nDiscover the evolution of Designated Roth Accounts\, from Roth IRAs in 1997 to the “Rothification” trends under the SECURE 2.0 Act. This webcast covers the fundamentals of Roth accounts\, contributions limits\, and regulatory challenges that will become effective in 2026. \nGain insight into addressing these challenges like discrimination testing\, catch-up limits\, and compliance with changing tax regulations.
URL:https://www.belfint.com/event/designated-roth-accounts-delware-shrm-webinar/
LOCATION:Webinar\, DE\, United States
CATEGORIES:BLS Speaking Engagement
ATTACH;FMTTYPE=image/jpeg:https://www.belfint.com/wp-content/uploads/2025/07/DE-SHRM-July-Webinar-Maria-Hurd.jpg
END:VEVENT
BEGIN:VEVENT
DTSTART;VALUE=DATE:20231114
DTEND;VALUE=DATE:20231116
DTSTAMP:20260420T192649
CREATED:20230718T204836Z
LAST-MODIFIED:20230718T204853Z
UID:10000287-1699920000-1700092799@www.belfint.com
SUMMARY:23RD Annual Delaware SHRM Conference & Expo
DESCRIPTION:BLS CPAs will be an exhibitor at the 23rd Annual Delaware SHRM Conference & Expo! \nJoin us at the 23rd annual Delaware SHRM Conference and Expo taking place at the Chase Center in Wilmington\, Delaware on November 14 – 15\, 2023. Over 300 HR professionals\, vendors and speakers are expected to attend this year’s conference. \n 
URL:https://www.belfint.com/event/2023-delaware-shrm-conference/
LOCATION:Chase Center on the Riverfront\, 815 Justison Street \, Wilmington\, DE\, 19801\, United States
CATEGORIES:BLS Exhibiting,BLS Sponsoring
ATTACH;FMTTYPE=image/jpeg:https://www.belfint.com/wp-content/uploads/2023/07/SHRM_Delaware_Logo.jpg
GEO:39.731089;-75.5630543
X-APPLE-STRUCTURED-LOCATION;VALUE=URI;X-ADDRESS=Chase Center on the Riverfront 815 Justison Street  Wilmington DE 19801 United States;X-APPLE-RADIUS=500;X-TITLE=815 Justison Street:geo:-75.5630543,39.731089
END:VEVENT
END:VCALENDAR