BEGIN:VCALENDAR
VERSION:2.0
PRODID:-// - ECPv6.15.20//NONSGML v1.0//EN
CALSCALE:GREGORIAN
METHOD:PUBLISH
X-ORIGINAL-URL:https://www.belfint.com
X-WR-CALDESC:Events for 
REFRESH-INTERVAL;VALUE=DURATION:PT1H
X-Robots-Tag:noindex
X-PUBLISHED-TTL:PT1H
BEGIN:VTIMEZONE
TZID:America/New_York
BEGIN:DAYLIGHT
TZOFFSETFROM:-0500
TZOFFSETTO:-0400
TZNAME:EDT
DTSTART:20210314T070000
END:DAYLIGHT
BEGIN:STANDARD
TZOFFSETFROM:-0400
TZOFFSETTO:-0500
TZNAME:EST
DTSTART:20211107T060000
END:STANDARD
BEGIN:DAYLIGHT
TZOFFSETFROM:-0500
TZOFFSETTO:-0400
TZNAME:EDT
DTSTART:20220313T070000
END:DAYLIGHT
BEGIN:STANDARD
TZOFFSETFROM:-0400
TZOFFSETTO:-0500
TZNAME:EST
DTSTART:20221106T060000
END:STANDARD
BEGIN:DAYLIGHT
TZOFFSETFROM:-0500
TZOFFSETTO:-0400
TZNAME:EDT
DTSTART:20230312T070000
END:DAYLIGHT
BEGIN:STANDARD
TZOFFSETFROM:-0400
TZOFFSETTO:-0500
TZNAME:EST
DTSTART:20231105T060000
END:STANDARD
BEGIN:DAYLIGHT
TZOFFSETFROM:-0500
TZOFFSETTO:-0400
TZNAME:EDT
DTSTART:20240310T070000
END:DAYLIGHT
BEGIN:STANDARD
TZOFFSETFROM:-0400
TZOFFSETTO:-0500
TZNAME:EST
DTSTART:20241103T060000
END:STANDARD
BEGIN:DAYLIGHT
TZOFFSETFROM:-0500
TZOFFSETTO:-0400
TZNAME:EDT
DTSTART:20250309T070000
END:DAYLIGHT
BEGIN:STANDARD
TZOFFSETFROM:-0400
TZOFFSETTO:-0500
TZNAME:EST
DTSTART:20251102T060000
END:STANDARD
END:VTIMEZONE
BEGIN:VEVENT
DTSTART;TZID=America/New_York:20241008T134000
DTEND;TZID=America/New_York:20241008T150000
DTSTAMP:20260420T050129
CREATED:20241005T173631Z
LAST-MODIFIED:20241005T173950Z
UID:10000386-1728394800-1728399600@www.belfint.com
SUMMARY:PrimeGlobal Collaborate Latin America: International Tax Breakout
DESCRIPTION:Marcelo Morinigo\, CPA will be presenting at PrimeGlobal’s 2024 Collaborate Latin America Conference! \nThe Collaborate LA event unites leaders and professionals from PrimeGlobal member firms\, offering a dynamic platform for networking\, knowledge sharing\, and collaboration amongst peers across the South American Region while embracing the vibrant atmosphere of Mexican culture. This gathering provides invaluable opportunities to gain insights\, exchange ideas\, and delve into emerging trends and challenges within the profession. \nMarcelo Morinigo\, CPA will be co-presenting during the following session. \n\nInternational Tax Breakout – 11:40AM – 1:00PM CST | 1:40 PM – 3:00 PM ET\n\nFind our more about PrimeGlobal’s 2024 Events \nCollaborate LA – ¡Próximamente en la Ciudad de México\, México! \nEl evento Collaborate LA reúne a líderes y profesionales de las firmas miembros de PrimeGlobal y ofrece una plataforma dinámica para la creación de redes\, el intercambio de conocimientos y la colaboración entre pares de toda la región de América del Sur. al mismo tiempo que disfruta de la vibrante atmósfera de la cultura mexicana. Esta reunión brinda oportunidades invaluables para obtener información\, intercambiar ideas y profundizar en las tendencias y desafíos emergentes dentro de la profesión.
URL:https://www.belfint.com/event/primeglobal-latin-america-international-tax-breakout/
LOCATION:Grand Fiesta Americana Chapulteqec\, 756 Calzada General Mariano Escobedo\, Mexico City\, Mexico
CATEGORIES:BLS Speaking Engagement
ATTACH;FMTTYPE=image/jpeg:https://www.belfint.com/wp-content/uploads/2024/10/PG-Collaborate-LA.jpg
GEO:19.4252087;-99.1781816
X-APPLE-STRUCTURED-LOCATION;VALUE=URI;X-ADDRESS=Grand Fiesta Americana Chapulteqec 756 Calzada General Mariano Escobedo Mexico City Mexico;X-APPLE-RADIUS=500;X-TITLE=756 Calzada General Mariano Escobedo:geo:-99.1781816,19.4252087
END:VEVENT
BEGIN:VEVENT
DTSTART;TZID=America/New_York:20220111T103000
DTEND;TZID=America/New_York:20220111T153000
DTSTAMP:20260420T050129
CREATED:20211217T194433Z
LAST-MODIFIED:20230321T184627Z
UID:10000165-1641897000-1641915000@www.belfint.com
SUMMARY:PrimeGlobal National Tax Conference: Federal Tax Update
DESCRIPTION:Stephanie Chapman\, CPA will be presenting at PrimeGlobal’s 2022 National Tax Conference! \nTHE PRIMEGLOBAL TAX CONFERENCE IS NOW 100% VIRTUAL. \nThe PrimeGlobal Tax Conference reliably provides technical updates from leading experts in the profession\, while delivering innovative practice management strategies. In addition\, this networking opportunity is packed with continuing education to help fulfill CPE requirements. \nStephanie Chapman\, CPA will be co-presenting during the following session. \n\nFederal Tax Update (Part 1) – Stephanie Chapman\, CPA – Corporate & International Services\, BLS & Andrew Leonard\, CPA\, Director of Tax Services\, BPBCPA 10:30 AM – 12:40 PM ET\nFederal Tax Update (Part 2) – Stephanie Chapman – Corporate & International Services\, BLS & Andrew Leonard\, CPA\, Director of Tax Services\, BPBCPA 1:50 PM – 3:30 PM ET\n\nFind our more about PrimeGlobal’s 2022 National Tax Conference.
URL:https://www.belfint.com/event/primeglobal-national-tax-conference-federal-tax-update/
LOCATION:Virtual
CATEGORIES:BLS Speaking Engagement
ATTACH;FMTTYPE=image/jpeg:https://www.belfint.com/wp-content/uploads/2021/12/PrimeGlobalTaxConference.jpg
END:VEVENT
END:VCALENDAR