BEGIN:VCALENDAR
VERSION:2.0
PRODID:-// - ECPv6.15.20//NONSGML v1.0//EN
CALSCALE:GREGORIAN
METHOD:PUBLISH
X-ORIGINAL-URL:https://www.belfint.com
X-WR-CALDESC:Events for 
REFRESH-INTERVAL;VALUE=DURATION:PT1H
X-Robots-Tag:noindex
X-PUBLISHED-TTL:PT1H
BEGIN:VTIMEZONE
TZID:America/New_York
BEGIN:DAYLIGHT
TZOFFSETFROM:-0500
TZOFFSETTO:-0400
TZNAME:EDT
DTSTART:20230312T070000
END:DAYLIGHT
BEGIN:STANDARD
TZOFFSETFROM:-0400
TZOFFSETTO:-0500
TZNAME:EST
DTSTART:20231105T060000
END:STANDARD
BEGIN:DAYLIGHT
TZOFFSETFROM:-0500
TZOFFSETTO:-0400
TZNAME:EDT
DTSTART:20240310T070000
END:DAYLIGHT
BEGIN:STANDARD
TZOFFSETFROM:-0400
TZOFFSETTO:-0500
TZNAME:EST
DTSTART:20241103T060000
END:STANDARD
BEGIN:DAYLIGHT
TZOFFSETFROM:-0500
TZOFFSETTO:-0400
TZNAME:EDT
DTSTART:20250309T070000
END:DAYLIGHT
BEGIN:STANDARD
TZOFFSETFROM:-0400
TZOFFSETTO:-0500
TZNAME:EST
DTSTART:20251102T060000
END:STANDARD
END:VTIMEZONE
BEGIN:VEVENT
DTSTART;TZID=America/New_York:20241009T163000
DTEND;TZID=America/New_York:20241009T173000
DTSTAMP:20260420T063840
CREATED:20241010T195721Z
LAST-MODIFIED:20241010T195721Z
UID:10000389-1728491400-1728495000@www.belfint.com
SUMMARY:University of Delaware Masters Degree in Accounting Networking
DESCRIPTION:Network with Small Accounting Firms to learn about their recruiting process and what a small to mid-sized firm has to offer. Jenni Fleck Jones will be there to answer any questions students might have about a career in public accounting and the recruiting process. \nWant to learn more about a career at BLS? Visit our College Students webpage.  \n  \n 
URL:https://www.belfint.com/event/ud-accounting-masters-2024/
LOCATION:University of Delaware – One South Main\, One South Main\, Newark\, Delaware
CATEGORIES:BLS Speaking Engagement,Recruiting Event
ATTACH;FMTTYPE=image/jpeg:https://www.belfint.com/wp-content/uploads/2018/01/Events-UD-720x540.jpg
GEO:39.6824433;-75.7566541
X-APPLE-STRUCTURED-LOCATION;VALUE=URI;X-ADDRESS=University of Delaware – One South Main One South Main Newark Delaware;X-APPLE-RADIUS=500;X-TITLE=One South Main:geo:-75.7566541,39.6824433
END:VEVENT
END:VCALENDAR